BEGIN:VCALENDAR
VERSION:2.0
PRODID:-//Nicolas Zippelius - ECPv6.15.11//NONSGML v1.0//EN
CALSCALE:GREGORIAN
METHOD:PUBLISH
X-WR-CALNAME:Nicolas Zippelius
X-ORIGINAL-URL:https://nicolas-zippelius.de
X-WR-CALDESC:Veranstaltungen für Nicolas Zippelius
REFRESH-INTERVAL;VALUE=DURATION:PT1H
X-Robots-Tag:noindex
X-PUBLISHED-TTL:PT1H
BEGIN:VTIMEZONE
TZID:Europe/Berlin
BEGIN:DAYLIGHT
TZOFFSETFROM:+0100
TZOFFSETTO:+0200
TZNAME:CEST
DTSTART:20250330T010000
END:DAYLIGHT
BEGIN:STANDARD
TZOFFSETFROM:+0200
TZOFFSETTO:+0100
TZNAME:CET
DTSTART:20251026T010000
END:STANDARD
BEGIN:DAYLIGHT
TZOFFSETFROM:+0100
TZOFFSETTO:+0200
TZNAME:CEST
DTSTART:20260329T010000
END:DAYLIGHT
BEGIN:STANDARD
TZOFFSETFROM:+0200
TZOFFSETTO:+0100
TZNAME:CET
DTSTART:20261025T010000
END:STANDARD
BEGIN:DAYLIGHT
TZOFFSETFROM:+0100
TZOFFSETTO:+0200
TZNAME:CEST
DTSTART:20270328T010000
END:DAYLIGHT
BEGIN:STANDARD
TZOFFSETFROM:+0200
TZOFFSETTO:+0100
TZNAME:CET
DTSTART:20271031T010000
END:STANDARD
END:VTIMEZONE
BEGIN:VEVENT
DTSTART;VALUE=DATE:20260223
DTEND;VALUE=DATE:20260224
DTSTAMP:20260422T121817
CREATED:20260317T135405Z
LAST-MODIFIED:20260317T135405Z
UID:10002242-1771804800-1771891199@nicolas-zippelius.de
SUMMARY:Präsidiumssitzung der CDU Baden-Württemberg
DESCRIPTION:
URL:https://nicolas-zippelius.de/event/praesidiumssitzung-der-cdu-baden-wuerttemberg/
END:VEVENT
BEGIN:VEVENT
DTSTART;VALUE=DATE:20260223
DTEND;VALUE=DATE:20260224
DTSTAMP:20260422T121817
CREATED:20260317T135530Z
LAST-MODIFIED:20260317T135530Z
UID:10002243-1771804800-1771891199@nicolas-zippelius.de
SUMMARY:Gespräch mit dem Geschäftsträger der Botschaft von Japan
DESCRIPTION:
URL:https://nicolas-zippelius.de/event/gespraech-mit-dem-geschaeftstraeger-der-botschaft-von-japan/
END:VEVENT
BEGIN:VEVENT
DTSTART;VALUE=DATE:20260223
DTEND;VALUE=DATE:20260224
DTSTAMP:20260422T121817
CREATED:20260317T135604Z
LAST-MODIFIED:20260317T135604Z
UID:10002244-1771804800-1771891199@nicolas-zippelius.de
SUMMARY:Austausch mit einer Besuchergruppe aus dem Wahlkreis
DESCRIPTION:
URL:https://nicolas-zippelius.de/event/austausch-mit-einer-besuchergruppe-aus-dem-wahlkreis/
END:VEVENT
BEGIN:VEVENT
DTSTART;VALUE=DATE:20260223
DTEND;VALUE=DATE:20260224
DTSTAMP:20260422T121817
CREATED:20260317T135635Z
LAST-MODIFIED:20260317T135635Z
UID:10002245-1771804800-1771891199@nicolas-zippelius.de
SUMMARY:Sitzung des Fraktionsvorstandes
DESCRIPTION:
URL:https://nicolas-zippelius.de/event/sitzung-des-fraktionsvorstandes/
END:VEVENT
BEGIN:VEVENT
DTSTART;VALUE=DATE:20260223
DTEND;VALUE=DATE:20260224
DTSTAMP:20260422T121817
CREATED:20260317T135657Z
LAST-MODIFIED:20260317T135657Z
UID:10002246-1771804800-1771891199@nicolas-zippelius.de
SUMMARY:Sitzung der Landesgruppe Baden-Württemberg
DESCRIPTION:
URL:https://nicolas-zippelius.de/event/sitzung-der-landesgruppe-baden-wuerttemberg-35/
END:VEVENT
BEGIN:VEVENT
DTSTART;VALUE=DATE:20260224
DTEND;VALUE=DATE:20260225
DTSTAMP:20260422T121817
CREATED:20260317T135714Z
LAST-MODIFIED:20260317T135714Z
UID:10002247-1771891200-1771977599@nicolas-zippelius.de
SUMMARY:Sitzung der AG Auswärtiges
DESCRIPTION:
URL:https://nicolas-zippelius.de/event/sitzung-der-ag-auswaertiges-6/
END:VEVENT
BEGIN:VEVENT
DTSTART;VALUE=DATE:20260224
DTEND;VALUE=DATE:20260225
DTSTAMP:20260422T121817
CREATED:20260317T135745Z
LAST-MODIFIED:20260317T135745Z
UID:10002248-1771891200-1771977599@nicolas-zippelius.de
SUMMARY:Sitzung der AG Wirtschaftliche Zusammenarbeit und Entwicklung
DESCRIPTION:
URL:https://nicolas-zippelius.de/event/sitzung-der-ag-wirtschaftliche-zusammenarbeit-und-entwicklung-5/
END:VEVENT
BEGIN:VEVENT
DTSTART;VALUE=DATE:20260224
DTEND;VALUE=DATE:20260225
DTSTAMP:20260422T121817
CREATED:20260317T135758Z
LAST-MODIFIED:20260317T135758Z
UID:10002249-1771891200-1771977599@nicolas-zippelius.de
SUMMARY:Sitzung der AG China
DESCRIPTION:
URL:https://nicolas-zippelius.de/event/sitzung-der-ag-china/
END:VEVENT
BEGIN:VEVENT
DTSTART;VALUE=DATE:20260224
DTEND;VALUE=DATE:20260225
DTSTAMP:20260422T121817
CREATED:20260317T135835Z
LAST-MODIFIED:20260317T135835Z
UID:10002250-1771891200-1771977599@nicolas-zippelius.de
SUMMARY:Staatsakt für Bundestagspräsidentin a.D. Prof. Dr. Rita Süssmuth
DESCRIPTION:
URL:https://nicolas-zippelius.de/event/staatsakt-fuer-bundestagspraesidentin-a-d-prof-dr-rita-suessmuth/
END:VEVENT
BEGIN:VEVENT
DTSTART;VALUE=DATE:20260224
DTEND;VALUE=DATE:20260225
DTSTAMP:20260422T121817
CREATED:20260317T135853Z
LAST-MODIFIED:20260317T135853Z
UID:10002251-1771891200-1771977599@nicolas-zippelius.de
SUMMARY:Sitzung der CDU/CSU-Bundestagsfraktion
DESCRIPTION:
URL:https://nicolas-zippelius.de/event/sitzung-der-cdu-csu-bundestagsfraktion-59/
END:VEVENT
BEGIN:VEVENT
DTSTART;VALUE=DATE:20260224
DTEND;VALUE=DATE:20260225
DTSTAMP:20260422T121817
CREATED:20260317T135949Z
LAST-MODIFIED:20260317T135949Z
UID:10002252-1771891200-1771977599@nicolas-zippelius.de
SUMMARY:Hintergrundgespräch zu China
DESCRIPTION:
URL:https://nicolas-zippelius.de/event/hintergrundgespraech-zu-china/
END:VEVENT
BEGIN:VEVENT
DTSTART;VALUE=DATE:20260225
DTEND;VALUE=DATE:20260226
DTSTAMP:20260422T121817
CREATED:20260317T151834Z
LAST-MODIFIED:20260317T151834Z
UID:10002253-1771977600-1772063999@nicolas-zippelius.de
SUMMARY:Sitzung des Auswärtigen Ausschusses
DESCRIPTION:
URL:https://nicolas-zippelius.de/event/sitzung-des-auswaertigen-ausschusses-6/
END:VEVENT
BEGIN:VEVENT
DTSTART;VALUE=DATE:20260225
DTEND;VALUE=DATE:20260226
DTSTAMP:20260422T121817
CREATED:20260317T152026Z
LAST-MODIFIED:20260317T152026Z
UID:10002254-1771977600-1772063999@nicolas-zippelius.de
SUMMARY:Sitzung des Ausschusses für Wirtschaftliche Zusammenarbeit und Entwicklung
DESCRIPTION:
URL:https://nicolas-zippelius.de/event/sitzung-des-ausschusses-fuer-wirtschaftliche-zusammenarbeit-und-entwicklung-3/
END:VEVENT
BEGIN:VEVENT
DTSTART;VALUE=DATE:20260226
DTEND;VALUE=DATE:20260227
DTSTAMP:20260422T121817
CREATED:20260317T152106Z
LAST-MODIFIED:20260317T152106Z
UID:10002255-1772064000-1772150399@nicolas-zippelius.de
SUMMARY:Austausch mit dem Botschaftsrat der Volksrepublik China
DESCRIPTION:
URL:https://nicolas-zippelius.de/event/austausch-mit-dem-botschaftsrat-der-volksrepublik-china/
END:VEVENT
BEGIN:VEVENT
DTSTART;VALUE=DATE:20260226
DTEND;VALUE=DATE:20260227
DTSTAMP:20260422T121817
CREATED:20260317T152142Z
LAST-MODIFIED:20260317T152142Z
UID:10002256-1772064000-1772150399@nicolas-zippelius.de
SUMMARY:Sitzung des Arbeitskreis "Transatlantische Beziehungen"
DESCRIPTION:
URL:https://nicolas-zippelius.de/event/sitzung-des-arbeitskreis-transatlantische-beziehungen/
END:VEVENT
BEGIN:VEVENT
DTSTART;VALUE=DATE:20260227
DTEND;VALUE=DATE:20260228
DTSTAMP:20260422T121817
CREATED:20260317T152206Z
LAST-MODIFIED:20260317T152206Z
UID:10002257-1772150400-1772236799@nicolas-zippelius.de
SUMMARY:Plenardebatten
DESCRIPTION:
URL:https://nicolas-zippelius.de/event/plenardebatten-4/
END:VEVENT
BEGIN:VEVENT
DTSTART;VALUE=DATE:20260227
DTEND;VALUE=DATE:20260228
DTSTAMP:20260422T121817
CREATED:20260317T152232Z
LAST-MODIFIED:20260317T152232Z
UID:10002258-1772150400-1772236799@nicolas-zippelius.de
SUMMARY:Jubiläum der Frauen Union Linkenheim-Hochstetten
DESCRIPTION:
URL:https://nicolas-zippelius.de/event/jubilaeum-der-frauen-union-linkenheim-hochstetten/
END:VEVENT
END:VCALENDAR